BEGIN:VCALENDAR
VERSION:2.0
PRODID:-//The Pasadena City College Small Business Development Center (SBDC) - ECPv5.0.2.1//NONSGML v1.0//EN
CALSCALE:GREGORIAN
METHOD:PUBLISH
X-WR-CALNAME:The Pasadena City College Small Business Development Center (SBDC)
X-ORIGINAL-URL:https://pccsbdc.org
X-WR-CALDESC:Events for The Pasadena City College Small Business Development Center (SBDC)
BEGIN:VTIMEZONE
TZID:America/Los_Angeles
BEGIN:DAYLIGHT
TZOFFSETFROM:-0800
TZOFFSETTO:-0700
TZNAME:PDT
DTSTART:20200308T100000
END:DAYLIGHT
BEGIN:STANDARD
TZOFFSETFROM:-0700
TZOFFSETTO:-0800
TZNAME:PST
DTSTART:20201101T090000
END:STANDARD
END:VTIMEZONE
BEGIN:VEVENT
DTSTART;TZID=America/Los_Angeles:20200527T160000
DTEND;TZID=America/Los_Angeles:20200527T180000
DTSTAMP:20260422T094846
CREATED:20200513T171658Z
LAST-MODIFIED:20200513T171658Z
UID:8552-1590595200-1590602400@pccsbdc.org
SUMMARY:The Role of Social Media in the COVID-19 Era
DESCRIPTION:Instagram and other social media engagement has increased during COVID-19. This webinar will help explore the fundamentals of social media and the various strategies small businesses can implement within their marketing strategy. In an era in which social distancing has become our new normal\, reaching our consumers and clients through social media is now more relevant than ever. \nWebinar will be conducted via ZOOM. Instructions to connect via ZOOM will be sent out to all registrants the day before the webinar. \nPresented by: Ojen Kassabian \n\nREGISTER NOW \n
URL:https://pccsbdc.org/workshop/the-role-of-social-media-in-the-covid-19-era/
LOCATION:Webinar – PCC
CATEGORIES:Branding & Messaging,COVID-19,Social Media
ATTACH;FMTTYPE=image/jpeg:https://pccsbdc.org/wp-content/uploads/sites/6/2020/01/Social-Media-e1580359452746.jpg
END:VEVENT
END:VCALENDAR