BEGIN:VCALENDAR
VERSION:2.0
PRODID:-//The Pasadena City College Small Business Development Center (SBDC) - ECPv5.0.2.1//NONSGML v1.0//EN
CALSCALE:GREGORIAN
METHOD:PUBLISH
X-WR-CALNAME:The Pasadena City College Small Business Development Center (SBDC)
X-ORIGINAL-URL:https://pccsbdc.org
X-WR-CALDESC:Events for The Pasadena City College Small Business Development Center (SBDC)
BEGIN:VTIMEZONE
TZID:America/Los_Angeles
BEGIN:DAYLIGHT
TZOFFSETFROM:-0800
TZOFFSETTO:-0700
TZNAME:PDT
DTSTART:20240310T100000
END:DAYLIGHT
BEGIN:STANDARD
TZOFFSETFROM:-0700
TZOFFSETTO:-0800
TZNAME:PST
DTSTART:20241103T090000
END:STANDARD
END:VTIMEZONE
BEGIN:VEVENT
DTSTART;TZID=America/Los_Angeles:20240403T100000
DTEND;TZID=America/Los_Angeles:20240403T113000
DTSTAMP:20260422T093859
CREATED:20240319T220525Z
LAST-MODIFIED:20240319T220525Z
UID:9294-1712138400-1712143800@pccsbdc.org
SUMMARY:Independent Contractor Classification Webinar
DESCRIPTION:\n\nJoin us for an informative session about independent contractor classification. Are you currently operating your business with independent contractors or planning to hire independent contractors? You won’t want to miss this webinar.\n\nWe will talk about:\n\n\nThe current requirements that must be met to properly classify a worker as an independent contractor\n\n\nAB5 and exemptions\n\n\nReporting requirements for independent contractors\n\n\nLos Angeles regulations governing doing business with independent contractors\n\n\nPresented by HR Expert: Xiomara Palma \n\n\n*The WEBINAR will be conducted via ZOOM. Instructions to connect via ZOOM will be sent out to all registrants the day before the webinar.  \n\n\n  \nREGISTER NOW \n
URL:https://pccsbdc.org/workshop/independent-contractor-classification-webinar/
LOCATION:Webinar – PCC
CATEGORIES:HR & Hiring
ATTACH;FMTTYPE=image/png:https://pccsbdc.org/wp-content/uploads/sites/6/2024/03/profit-12.png
END:VEVENT
END:VCALENDAR