BEGIN:VCALENDAR
VERSION:2.0
PRODID:-//The Pasadena City College Small Business Development Center (SBDC) - ECPv5.0.2.1//NONSGML v1.0//EN
CALSCALE:GREGORIAN
METHOD:PUBLISH
X-WR-CALNAME:The Pasadena City College Small Business Development Center (SBDC)
X-ORIGINAL-URL:https://pccsbdc.org
X-WR-CALDESC:Events for The Pasadena City College Small Business Development Center (SBDC)
BEGIN:VTIMEZONE
TZID:America/Los_Angeles
BEGIN:DAYLIGHT
TZOFFSETFROM:-0800
TZOFFSETTO:-0700
TZNAME:PDT
DTSTART:20210314T100000
END:DAYLIGHT
BEGIN:STANDARD
TZOFFSETFROM:-0700
TZOFFSETTO:-0800
TZNAME:PST
DTSTART:20211107T090000
END:STANDARD
END:VTIMEZONE
BEGIN:VEVENT
DTSTART;TZID=America/Los_Angeles:20210713T100000
DTEND;TZID=America/Los_Angeles:20210713T110000
DTSTAMP:20260422T094723
CREATED:20210629T234429Z
LAST-MODIFIED:20210629T234429Z
UID:8815-1626170400-1626174000@pccsbdc.org
SUMMARY:Hiring Employees in California
DESCRIPTION:As more Covid-19 restrictions are being relaxed and more businesses fully reopening\, employers are hiring again. Join us during this hiring practices webinar to help businesses stay compliant with CA regulations.\n \nYou will learn compliance with:\n• Required posters & notifications\n• Governing agencies (EDD\, DFEH\, OSHA\, DIR)\n• Worker classification\n• Independent contractor regulations\n• Recruiting/Interviewing/compensation do’s and don’ts\n• Q&A to follow \n  \nPresented by HR Specialist: Xiomara Palma \n*The WEBINAR will be conducted via ZOOM. Instructions to connect via ZOOM will be sent out to all registrants the day before the webinar.  \n\nREGISTER NOW \n
URL:https://pccsbdc.org/workshop/hiring-employees-in-california/
LOCATION:Webinar – PCC
CATEGORIES:HR & Hiring
ATTACH;FMTTYPE=image/jpeg:https://pccsbdc.org/wp-content/uploads/sites/6/2020/02/giftshop2-scaled-e1582064549839.jpg
END:VEVENT
END:VCALENDAR