BEGIN:VCALENDAR
VERSION:2.0
PRODID:-//The Pasadena City College Small Business Development Center (SBDC) - ECPv5.0.2.1//NONSGML v1.0//EN
CALSCALE:GREGORIAN
METHOD:PUBLISH
X-WR-CALNAME:The Pasadena City College Small Business Development Center (SBDC)
X-ORIGINAL-URL:https://pccsbdc.org
X-WR-CALDESC:Events for The Pasadena City College Small Business Development Center (SBDC)
BEGIN:VTIMEZONE
TZID:America/Los_Angeles
BEGIN:DAYLIGHT
TZOFFSETFROM:-0800
TZOFFSETTO:-0700
TZNAME:PDT
DTSTART:20190310T100000
END:DAYLIGHT
BEGIN:STANDARD
TZOFFSETFROM:-0700
TZOFFSETTO:-0800
TZNAME:PST
DTSTART:20191103T090000
END:STANDARD
END:VTIMEZONE
BEGIN:VEVENT
DTSTART;TZID=America/Los_Angeles:20191009T180000
DTEND;TZID=America/Los_Angeles:20191009T200000
DTSTAMP:20260422T094555
CREATED:20190918T001802Z
LAST-MODIFIED:20190918T001802Z
UID:8392-1570644000-1570651200@pccsbdc.org
SUMMARY:Elevate Your Social Media Presence
DESCRIPTION:Join us for this illuminating workshop as we discuss the ”Fab 4 Topics” for elevating your Social Media presence!!!! \n1. Developing a social media strategy\n2. Creating a content calendar\n3. Content Development\n4. Influencer marketing for your brand (how to find and reach out) \nThis workshop is ideal for new SBDC clients and should be followed up with 1:1 advising to focus on your specific brand. \n  \nREGISTER NOW \n
URL:https://pccsbdc.org/workshop/elevate-your-social-media-presence-3/
LOCATION:Pasadena City College – Foothill Campus\, 3035 E. Foothill Blvd.\, Pasadena\, CA\, 91107\, United States
CATEGORIES:Social Media
ATTACH;FMTTYPE=image/jpeg:https://pccsbdc.org/wp-content/uploads/sites/6/2018/12/Social-Media-e1511800473409.jpg
GEO:34.149578;-118.110717
X-APPLE-STRUCTURED-LOCATION;VALUE=URI;X-ADDRESS=Pasadena City College – Foothill Campus 3035 E. Foothill Blvd. Pasadena CA 91107 United States;X-APPLE-RADIUS=500;X-TITLE=3035 E. Foothill Blvd.:geo:-118.110717,34.149578
END:VEVENT
END:VCALENDAR