BEGIN:VCALENDAR
VERSION:2.0
PRODID:-//The Pasadena City College Small Business Development Center (SBDC) - ECPv5.0.2.1//NONSGML v1.0//EN
CALSCALE:GREGORIAN
METHOD:PUBLISH
X-WR-CALNAME:The Pasadena City College Small Business Development Center (SBDC)
X-ORIGINAL-URL:https://pccsbdc.org
X-WR-CALDESC:Events for The Pasadena City College Small Business Development Center (SBDC)
BEGIN:VTIMEZONE
TZID:America/Los_Angeles
BEGIN:DAYLIGHT
TZOFFSETFROM:-0800
TZOFFSETTO:-0700
TZNAME:PDT
DTSTART:20200308T100000
END:DAYLIGHT
BEGIN:STANDARD
TZOFFSETFROM:-0700
TZOFFSETTO:-0800
TZNAME:PST
DTSTART:20201101T090000
END:STANDARD
END:VTIMEZONE
BEGIN:VEVENT
DTSTART;TZID=America/Los_Angeles:20200501T100000
DTEND;TZID=America/Los_Angeles:20200501T120000
DTSTAMP:20260422T093319
CREATED:20200425T214318Z
LAST-MODIFIED:20200425T214637Z
UID:8534-1588327200-1588334400@pccsbdc.org
SUMMARY:E-commerce Workshop
DESCRIPTION:For business owners looking to get an overview of the current e-commerce landscape in the time of COVID-19. \nWe will cover:\n-Review of the e-commerce landscape.\n-Emerging trends in e-commerce.\n-Overview of the different e-commerce platforms.\n-Evaluating the marketing channels.\n-Discussion of content strategies. \nOpen to all experiences but most ideal for business owners just getting started with e-commerce and setting up their first store. Come with ideas and inspiration. Feel free to ask questions. \nWebinar will be conducted via ZOOM. Instructions to connect via ZOOM will be sent out to all registrants the day before the webinar. \n\nPresented by: Alex Vasquez \nREGISTER NOW \n
URL:https://pccsbdc.org/workshop/e-commerce-workshop/
LOCATION:Webinar – PCC
CATEGORIES:Business Disaster Planning
ATTACH;FMTTYPE=image/jpeg:https://pccsbdc.org/wp-content/uploads/sites/6/2020/04/Working-and-packaging-scaled-e1587850925591.jpg
END:VEVENT
END:VCALENDAR