BEGIN:VCALENDAR
VERSION:2.0
PRODID:-//The Pasadena City College Small Business Development Center (SBDC) - ECPv5.0.2.1//NONSGML v1.0//EN
CALSCALE:GREGORIAN
METHOD:PUBLISH
X-WR-CALNAME:The Pasadena City College Small Business Development Center (SBDC)
X-ORIGINAL-URL:https://pccsbdc.org
X-WR-CALDESC:Events for The Pasadena City College Small Business Development Center (SBDC)
BEGIN:VTIMEZONE
TZID:America/Los_Angeles
BEGIN:DAYLIGHT
TZOFFSETFROM:-0800
TZOFFSETTO:-0700
TZNAME:PDT
DTSTART:20250309T100000
END:DAYLIGHT
BEGIN:STANDARD
TZOFFSETFROM:-0700
TZOFFSETTO:-0800
TZNAME:PST
DTSTART:20251102T090000
END:STANDARD
END:VTIMEZONE
BEGIN:VEVENT
DTSTART;TZID=America/Los_Angeles:20250220T100000
DTEND;TZID=America/Los_Angeles:20250220T113000
DTSTAMP:20260422T094548
CREATED:20250213T015850Z
LAST-MODIFIED:20250213T015850Z
UID:9477-1740045600-1740051000@pccsbdc.org
SUMMARY:Create Content That Converts – Mastering ChatGPT & Canva for Sales Success
DESCRIPTION:Are you ready to take your content creation to the next level and start driving real sales? In this dynamic and interactive webinar\, you’ll discover how to seamlessly integrate ChatGPT and Canva to create scroll-stopping\, sales-generating content with ease and efficiency. \nWhat You’ll Learn: \n•   Streamline Your Content Strategy: Learn how to use ChatGPT to brainstorm\, draft\, and refine compelling content tailored to your ideal customer. \n•   Design Like a Pro: Discover Canva’s powerful features and create visually stunning graphics that align with your brand and message. \n•   Turn Viewers Into Buyers: Combine AI-powered messaging with eye-catching design to create posts\, ads\, and visuals that convert views into clicks and sales. \n•   Save Time\, Maximize Impact: Get actionable tips to automate your workflow and create content faster without sacrificing quality or creativity. \nWho Should Attend: \nThis webinar is perfect for entrepreneurs\, small business owners\, marketers\, and creatives who want to: \n•   Boost engagement on social media. \n•   Drive traffic to their websites or stores. \n•   Enhance their brand’s visual and verbal impact. \n•   Save time and energy while growing their revenue. \nWhy This Webinar? \nWith the right tools and strategy\, you can transform your online presence into a powerful sales engine. Whether you’re just starting out or looking to refine your approach\, this webinar will empower you with practical skills to create content that not only resonates but also converts. \nBonus: All participants will receive a free content calendar for integrating ChatGPT and Canva into their content strategy\, a recording and exclusive access to a live Q&A with the presenter. \nLet’s elevate your content creation game and boost your sales together! \nInstructor: Deborah Deras\, Social Media Goddess\, Mindful AI Expert \n*The WEBINAR will be conducted via ZOOM. Instructions to connect via ZOOM will be sent out to all registrants the day before the webinar.  \nREGISTER NOW \n
URL:https://pccsbdc.org/workshop/create-content-that-converts-mastering-chatgpt-canva-for-sales-success/
LOCATION:Webinar – PCC
CATEGORIES:Social Media
ATTACH;FMTTYPE=image/png:https://pccsbdc.org/wp-content/uploads/sites/6/2024/08/profit-31.png
END:VEVENT
END:VCALENDAR